BEGIN:VCALENDAR
VERSION:2.0
PRODID:-//Hamirpur - ECPv6.15.16//NONSGML v1.0//EN
CALSCALE:GREGORIAN
METHOD:PUBLISH
X-WR-CALNAME:Hamirpur
X-ORIGINAL-URL:https://www.hamirpur.net
X-WR-CALDESC:Events for Hamirpur
REFRESH-INTERVAL;VALUE=DURATION:PT1H
X-Robots-Tag:noindex
X-PUBLISHED-TTL:PT1H
BEGIN:VTIMEZONE
TZID:UTC
BEGIN:STANDARD
TZOFFSETFROM:+0000
TZOFFSETTO:+0000
TZNAME:UTC
DTSTART:20220101T000000
END:STANDARD
END:VTIMEZONE
BEGIN:VEVENT
DTSTART;VALUE=DATE:20230427
DTEND;VALUE=DATE:20230731
DTSTAMP:20260424T155028
CREATED:20230421T075149Z
LAST-MODIFIED:20230422T060922Z
UID:323-1682553600-1690761599@www.hamirpur.net
SUMMARY:"The Voice of Himachal - Auditions Now Open | Join The Interested Contest!"
DESCRIPTION:Attention all aspiring singers\, dancers\, modelers and actors in Himachal Pradesh! The moment you’ve been waiting for is finally here! The highly anticipated “Voice of Himachal” audition is about to kick off\, promising to be an unforgettable experience for all performers enthusiasts in the region. \n“Voice of Himachal” audition promises to be a platform for local talents to showcase their vocal prowess and make their mark in the entertainment industry. \nAspiring performers from all across Himachal Pradesh are invited to participate in the audition\, regardless of their age or background. Whether you’re a seasoned performer or a budding talent\, this is your chance to step into the spotlight and captivate the judges with your melodious performance. \nThe audition will be conducted in front of a panel of esteemed judges. Contestants will be given the opportunity to perform their choice of song\, and will be evaluated based on their vocal abilities\, stage presence\, and overall performance. \nThe “Voice of Himachal” audition promises to be a showcase of diverse musical genres\, including folk\, classical\, contemporary\, and more. The selected contestants from the audition will move on to the next round\, where they will receive professional training and guidance from industry experts to further polish their skills. \nApart from the opportunity to showcase their talents\, contestants will also stand a chance to win attractive prizes\, including cash rewards\, recording contracts\, and performance opportunities at esteemed music events across the state.\nSo\,if you have a great talent voice and dream of making it big in the entertainment industry\, mark your calendars for mentioned dates and distt and get ready to shine at the “Voice of Himachal” audition. It’s your time to steal the spotlight and make your voice heard in the breathtaking landscapes of Himachal Pradesh! \nRenowned Himachal folk singer Karnail Rana and artist Amit Bhatia\, to judge ‘The Voice of Himachal’ singing contest!” Hurry Up!! \n 
URL:https://www.hamirpur.net/event/the-voice-of-himachal-auditions-now-open-join-the-interested-contest
LOCATION:Himachal Pradesh\, Himachal Pradesh\, Himachal Pradesh\, Himachal Pradesh\, India
END:VEVENT
END:VCALENDAR